{"text_format":"2","workbook":"xlsx","n_sheets":19,"sheets":["Main","選手名登録","チーム名登録","シード指定","Meibo","37","36","35","34","33","32","31","30","29","28","27","26","25","24"],"not_rendered":{"charts":0,"images":0,"macros":1,"external_links":0,"defined_names":4,"comments":0,"pivot_tables":0},"unopened":[],"bounds":{"document_bytes":16777216,"sheet_cells":100000,"run_cost":"one","rows_first":2000,"rows_last":500,"rows_between":2000,"halvings":0,"cell_chars":16384,"cell_head_chars":4096},"cells_cut":0,"cells_raw":0,"read":"whole","date_system":"1900"}

{"sheet":"Main","index":0,"n_rows":31,"n_cols":15,"rows_kept":31,"cut":false,"hidden":false,"merged":[]}
[466,1,2,3,4,"判定",null,"学校名","選手数","Check",{"$f":"SUM(J2:J10)","v":0}]
[1,"千葉海賊1","東北楽天1","読売巨人1","読売巨人2",{"$f":"COS(COUNTBLANK(B2:E2))*ROW()","v":2},1,"読売巨人",4,{"$f":"COUNTIF($B$2:$E$26,H2)","v":0}]
[2,"読売巨人3","千葉海賊2","広島東洋1","東北楽天2",{"$f":"COS(COUNTBLANK(B3:E3))*ROW()","v":3},2,"阪神猛虎",3,{"$f":"COUNTIF($B$2:$E$26,H3)","v":0}]
[3,"東北楽天3","阪神猛虎1","中日昇竜1","広島東洋2",4,3,"広島東洋",3,0]
[4,"横浜湊星1","中日昇竜3","東北楽天4","中日昇竜2",5,4,"中日昇竜",4,0,null,1,2,3,4]
[5,"阪神猛虎2","埼玉西部1","日本ハム1","日本ハム2",6,5,"千葉海賊",4,0,null,8,7,6,5]
[6,"中日昇竜4","読売巨人4","横浜湊星2","埼玉西部2",7,6,"横浜湊星",3,0,null,9,10,11,12]
[7,"埼玉西部3","広島東洋3","阪神猛虎3","千葉海賊3",8,7,"埼玉西部",3,0,null,16,15,14,13]
[8,null,null,"千葉海賊4","横浜湊星3",-3.7453215289242818,8,"東北楽天",4,0,null,17,18,19,20]
[9,{"$nulls":4},-6.5364362086361192,9,"日本ハム",2,0,null,24,23,22,21]
[10,{"$nulls":4},-7.190079829499731,{"$nulls":5},25,26,27,28]
[11,{"$nulls":4},-7.8437234503633437,{"$nulls":5},32,31,30,29]
[12,{"$nulls":4},-8.4973670712269556]
[13,{"$nulls":4},-9.1510106920905674]
[14,{"$nulls":4},-9.8046543129541792]
[15,{"$nulls":4},-10.458297933817791]
[16,{"$nulls":4},-11.111941554681403]
[17,{"$nulls":4},-11.765585175545015]
[18,{"$nulls":4},-12.419228796408627]
[19,{"$nulls":4},-13.072872417272238]
[20,{"$nulls":4},-13.72651603813585]
[21,{"$nulls":4},-14.380159658999462]
[22,{"$nulls":4},-15.033803279863074]
[23,{"$nulls":4},-15.687446900726687]
[24,{"$nulls":4},-16.341090521590299]
[25,{"$nulls":4},-16.994734142453911]
[null,{"$f":"COUNTA(B2:B26)","v":7},{"$f":"COUNTA(C2:C26)","v":7},{"$f":"COUNTA(D2:D26)","v":8},{"$f":"COUNTA(E2:E26)","v":8},{"$f":"MOD(MAX(F2:F26)+1,2)=0","v":false}]
[null,"max","min","Difference"]
[null,{"$f":"MAX(B27:E27)","v":8},{"$f":"MIN(B27:E27)","v":7},{"$f":"B29-C29","v":1}]
[null,"奇数行",{"$f":"(B27<=C27)*(C27<=D27)*(D27<=E27)","v":1},null,{"$f":"IF(F27,C31,C30)","v":1}]
[null,"偶数行",{"$f":"(B27>=C27)*(C27>=D27)*(D27>=E27)","v":0}]

{"sheet":"選手名登録","index":1,"n_rows":8,"n_cols":10,"rows_kept":8,"cut":false,"hidden":false,"merged":[]}
["団体(学校）名略号","(読)","(阪)","(広)","(中)","(千)","(横)","(埼)","(東)","(日)"]
["団体(学校）名","読売巨人","阪神猛虎","広島東洋","中日昇竜","千葉海賊","横浜湊星","埼玉西部","東北楽天","日本ハム"]
["選手1","長嶋茂雄","花形見鶴","山本浩二","落合博満","粳寅 満太郎","佐々木大魔神","番長清原","岩隈久志","大社義規"]
["選手2","王貞治","藤村甲子園","前田健太","オズ間","猿山 さるぞう","高木豊","東尾修","田中将大","大沢啓二"]
["選手3","川上哲治","馬亜頭","浜崎鯉太郎","判宙太","犬井 犬太郎","谷繁元信","中西太","銀次"]
["選手4","星飛雄馬",null,null,"星一徹","千葉 修作",null,null,"則本昴大"]
[]
[null,"※シード選手含め、強い順に上から入力します。"]

{"sheet":"チーム名登録","index":2,"n_rows":10,"n_cols":3,"rows_kept":10,"cut":false,"hidden":false,"merged":[]}
[null,"団体(学校）名","団体(学校）名略号"]
[1,"読売巨人","(読)"]
[2,"阪神猛虎","(阪)"]
[3,"広島東洋","(広)"]
[4,"中日昇竜","(中)"]
[5,"千葉海賊","(千)"]
[6,"横浜湊星","(横)"]
[7,"埼玉西部","(埼)"]
[8,"東北楽天","(東)"]
[9,"日本ハム","(日)"]

{"sheet":"シード指定","index":3,"n_rows":9,"n_cols":2,"rows_kept":9,"cut":false,"hidden":false,"merged":[]}
[null,"団体(学校）名"]
["第1シード","千葉海賊"]
["第2シード","東北楽天"]
["第3シード","読売巨人"]
["第4シード","読売巨人"]
["第5シード"]
["第6シード"]
["第7シード"]
["第8シード"]

{"sheet":"Meibo","index":4,"n_rows":10,"n_cols":6,"rows_kept":10,"cut":false,"hidden":false,"merged":[]}
[null,"学校名",1,2,3,4]
[1,{"$f":"Main!H2","v":"読売巨人"},"長嶋茂雄(読)","王貞治(読)","川上哲治(読)","星飛雄馬(読)"]
[2,{"$f":"Main!H3","v":"阪神猛虎"},"花形見鶴(阪)","藤村甲子園(阪)","馬亜頭(阪)","(阪)"]
[3,{"$f":"Main!H4","v":"広島東洋"},"山本浩二(広)","前田健太(広)","浜崎鯉太郎(広)","(広)"]
[4,{"$f":"Main!H5","v":"中日昇竜"},"落合博満(中)","オズ間(中)","判宙太(中)","星一徹(中)"]
[5,{"$f":"Main!H6","v":"千葉海賊"},"粳寅 満太郎(千)","猿山 さるぞう(千)","犬井 犬太郎(千)","千葉 修作(千)"]
[6,{"$f":"Main!H7","v":"横浜湊星"},"佐々木大魔神(横)","高木豊(横)","谷繁元信(横)","(横)"]
[7,{"$f":"Main!H8","v":"埼玉西部"},"番長清原(埼)","東尾修(埼)","中西太(埼)","(埼)"]
[8,{"$f":"Main!H9","v":"東北楽天"},"岩隈久志(東)","田中将大(東)","銀次(東)","則本昴大(東)"]
[9,{"$f":"Main!H10","v":"日本ハム"},"大社義規(日)","大沢啓二(日)","(日)","(日)"]

{"sheet":"37","index":5,"n_rows":55,"n_cols":18,"rows_kept":55,"cut":false,"hidden":false,"merged":[[7,3,8,3],[8,0,9,0],[8,2,9,2],[8,15,9,15],[8,16,9,16],[8,17,9,17],[4,0,5,0],[4,2,5,2],[4,15,5,15],[4,16,5,16],[4,17,5,17],[6,0,7,0],[6,2,7,2],[6,15,7,15],[6,16,7,16],[6,17,7,17],[14,15,15,15],[14,16,15,16],[14,17,15,17],[15,0,16,0],[15,2,16,2],[16,15,17,15],[16,16,17,16],[10,0,11,0],[10,2,11,2],[10,15,11,15],[10,16,11,16],[10,17,11,17],[11,3,12,3],[12,0,13,0],[12,2,13,2],[12,15,13,15],[12,16,13,16],[18,0,19,0],[18,2,19,2],[18,15,19,15],[18,17,19,17],[20,0,21,0],[20,2,21,2],[20,15,21,15],[20,16,21,16],[21,3,22,3],[22,0,23,0],[22,2,23,2],[22,15,23,15],[22,16,23,16],[22,17,23,17],[24,0,25,0],[24,2,25,2],[24,15,25,15],[24,16,25,16],[24,17,25,17],[25,3,26,3],[28,17,29,17],[30,0,31,0],[30,2,31,2],[30,15,31,15],[30,16,31,16],[30,17,31,17],[26,0,27,0],[26,2,27,2],[26,15,27,15],[26,16,27,16],[28,0,29,0],[28,2,29,2],[28,15,29,15],[28,16,29,16],[34,17,35,17],[36,0,37,0],[36,2,37,2],[36,15,37,15],[36,16,37,16],[36,17,37,17],[32,0,33,0],[32,2,33,2],[32,15,33,15],[32,16,33,16],[33,3,34,3],[34,0,35,0],[34,2,35,2],[34,15,35,15],[34,16,35,16],[40,17,41,17],[42,15,43,15],[42,16,43,16],[43,0,44,0],[43,2,44,2],[44,15,45,15],[44,16,45,16],[44,17,45,17],[38,0,39,0],[38,2,39,2],[38,15,39,15],[38,16,39,16],[40,0,41,0],[40,2,41,2],[40,15,41,15],[40,16,41,16],[46,0,47,0],[46,2,47,2],[46,15,47,15],[46,16,47,16],[47,3,48,3],[48,0,49,0],[48,2,49,2],[48,15,49,15],[48,16,49,16],[52,16,53,16],[52,17,53,17],[54,0,55,0],[54,2,55,2],[54,15,55,15],[54,16,55,16],[54,17,55,17],[48,17,49,17],[50,0,51,0],[50,2,51,2],[50,15,51,15],[50,16,51,16],[50,17,51,17],[51,3,52,3],[52,0,53,0],[52,2,53,2],[52,15,53,15]]}
[]
["Patern 36"]
[]
[]
[{"$f":"Main!B2","v":"千葉海賊1"},null,1,{"$nulls":13},3,{"$f":"Main!D2","v":"読売巨人1"}]
[]
[{"$f":"Main!B10","v":0},null,33,{"$nulls":13},35,{"$f":"Main!D10","v":0}]
[null,null,null,1]
[{"$f":"Main!B9","v":0},null,32,{"$nulls":13},30,{"$f":"Main!D9","v":"千葉海賊4"}]
[]
[{"$f":"Main!B6","v":"阪神猛虎2"},null,17,{"$nulls":13},19,{"$f":"Main!D6","v":"日本ハム1"}]
[]
[]
[]
[{"$nulls":16},14,{"$f":"Main!D5","v":"東北楽天4"}]
[{"$f":"Main!B5","v":"横浜湊星1"},null,16]
[]
[]
[{"$f":"Main!B4","v":"東北楽天3"},null,9,{"$nulls":13},11,{"$f":"Main!D4","v":"中日昇竜1"}]
[]
[]
[]
[{"$f":"Main!B7","v":"中日昇竜4"},null,24,{"$nulls":13},22,{"$f":"Main!D7","v":"横浜湊星2"}]
[]
[{"$f":"Main!B8","v":"埼玉西部3"},null,25,{"$nulls":13},27,{"$f":"Main!D8","v":"阪神猛虎3"}]
[]
[]
[]
[{"$f":"Main!B3","v":"読売巨人3"},null,8,{"$nulls":13},6,{"$f":"Main!D3","v":"広島東洋1"}]
[]
[{"$f":"Main!E3","v":"東北楽天2"},null,5,{"$nulls":13},7,{"$f":"Main!C3","v":"千葉海賊2"}]
[]
[]
[null,null,null,6]
[{"$f":"Main!E8","v":"千葉海賊3"},null,28,{"$nulls":13},26,{"$f":"Main!C8","v":"広島東洋3"}]
[]
[{"$f":"Main!E7","v":"埼玉西部2"},null,21,{"$nulls":13},23,{"$f":"Main!C7","v":"読売巨人4"}]
[]
[]
[]
[{"$f":"Main!E4","v":"広島東洋2"},null,12,{"$nulls":13},10,{"$f":"Main!C4","v":"阪神猛虎1"}]
[]
[]
[{"$f":"Main!E5","v":"中日昇竜2"},null,13]
[{"$nulls":16},15,{"$f":"Main!C5","v":"中日昇竜3"}]
[]
[]
[]
[{"$f":"Main!E6","v":"日本ハム2"},null,20,{"$nulls":13},18,{"$f":"Main!C6","v":"埼玉西部1"}]
[]
[{"$f":"Main!E9","v":"横浜湊星3"},null,29,{"$nulls":13},31,{"$f":"Main!C9","v":0}]
[]
[{"$f":"Main!E10","v":0},null,36,{"$nulls":13},34,{"$f":"Main!C10","v":0}]
[]
[{"$f":"Main!E2","v":"読売巨人2"},null,4,{"$nulls":13},2,{"$f":"Main!C2","v":"東北楽天1"}]

{"sheet":"36","index":6,"n_rows":55,"n_cols":18,"rows_kept":55,"cut":false,"hidden":false,"merged":[[15,0,16,0],[8,2,9,2],[8,15,9,15],[8,16,9,16],[10,0,11,0],[10,2,11,2],[16,15,17,15],[16,16,17,16],[4,0,5,0],[4,2,5,2],[4,15,5,15],[4,16,5,16],[6,0,7,0],[12,15,13,15],[12,16,13,16],[6,2,7,2],[6,15,7,15],[6,16,7,16],[7,3,8,3],[8,0,9,0],[10,15,11,15],[10,16,11,16],[11,3,12,3],[12,0,13,0],[48,0,49,0],[48,2,49,2],[44,15,45,15],[44,16,45,16],[36,0,37,0],[36,2,37,2],[36,15,37,15],[36,16,37,16],[38,0,39,0],[38,2,39,2],[38,15,39,15],[38,16,39,16],[40,0,41,0],[40,2,41,2],[40,15,41,15],[40,16,41,16],[54,0,55,0],[54,2,55,2],[54,15,55,15],[54,16,55,16],[18,0,19,0],[40,17,41,17],[18,17,19,17],[43,0,44,0],[54,17,55,17],[50,17,51,17],[50,0,51,0],[50,2,51,2],[50,15,51,15],[50,16,51,16],[51,3,52,3],[52,0,53,0],[52,2,53,2],[52,15,53,15],[52,16,53,16],[46,0,47,0],[46,2,47,2],[46,15,47,15],[46,16,47,16],[47,3,48,3],[30,0,31,0],[30,2,31,2],[30,15,31,15],[30,16,31,16],[24,0,25,0],[24,2,25,2],[24,15,25,15],[24,16,25,16],[25,3,26,3],[26,0,27,0],[26,2,27,2],[26,15,27,15],[4,17,5,17],[28,17,29,17],[30,17,31,17],[33,0,34,0],[8,17,9,17],[6,17,7,17],[14,17,15,17],[33,2,34,2],[28,0,29,0],[28,2,29,2],[22,16,23,16],[26,16,27,16],[18,2,19,2],[18,15,19,15],[20,0,21,0],[20,2,21,2],[20,15,21,15],[20,16,21,16],[21,3,22,3],[22,0,23,0],[22,2,23,2],[22,15,23,15],[14,15,15,15],[14,16,15,16],[52,17,53,17],[15,2,16,2],[48,17,49,17],[10,17,11,17],[22,17,23,17],[36,17,37,17],[44,17,45,17],[42,15,43,15],[42,16,43,16],[43,2,44,2],[48,15,49,15],[48,16,49,16],[12,2,13,2],[34,17,35,17],[24,17,25,17],[32,15,33,15],[32,16,33,16],[34,15,35,15],[34,16,35,16],[28,15,29,15],[28,16,29,16]]}
[]
["Patern 36"]
[]
[]
[{"$f":"Main!B2","v":"千葉海賊1"},null,1,{"$nulls":13},3,{"$f":"Main!D2","v":"読売巨人1"}]
[]
[{"$f":"Main!B10","v":0},null,33,{"$nulls":13},35,{"$f":"Main!D10","v":0}]
[null,null,null,1]
[{"$f":"Main!B9","v":0},null,32,{"$nulls":13},30,{"$f":"Main!D9","v":"千葉海賊4"}]
[]
[{"$f":"Main!B6","v":"阪神猛虎2"},null,17,{"$nulls":13},19,{"$f":"Main!D6","v":"日本ハム1"}]
[]
[]
[]
[{"$nulls":16},14,{"$f":"Main!D5","v":"東北楽天4"}]
[{"$f":"Main!B5","v":"横浜湊星1"},null,16]
[]
[]
[{"$f":"Main!B4","v":"東北楽天3"},null,9,{"$nulls":13},11,{"$f":"Main!D4","v":"中日昇竜1"}]
[]
[]
[]
[{"$f":"Main!B7","v":"中日昇竜4"},null,24,{"$nulls":13},22,{"$f":"Main!D7","v":"横浜湊星2"}]
[]
[{"$f":"Main!B8","v":"埼玉西部3"},null,25,{"$nulls":13},27,{"$f":"Main!D8","v":"阪神猛虎3"}]
[]
[]
[]
[{"$f":"Main!B3","v":"読売巨人3"},null,8,{"$nulls":13},6,{"$f":"Main!D3","v":"広島東洋1"}]
[]
[{"$f":"Main!E3","v":"東北楽天2"},null,5,{"$nulls":13},7,{"$f":"Main!C3","v":"千葉海賊2"}]
[]
[]
[{"$f":"Main!E8","v":"千葉海賊3"},null,28]
[{"$nulls":16},26,{"$f":"Main!C8","v":"広島東洋3"}]
[]
[{"$f":"Main!E7","v":"埼玉西部2"},null,21,{"$nulls":13},23,{"$f":"Main!C7","v":"読売巨人4"}]
[]
[]
[]
[{"$f":"Main!E4","v":"広島東洋2"},null,12,{"$nulls":13},10,{"$f":"Main!C4","v":"阪神猛虎1"}]
[]
[]
[{"$f":"Main!E5","v":"中日昇竜2"},null,13]
[{"$nulls":16},15,{"$f":"Main!C5","v":"中日昇竜3"}]
[]
[]
[]
[{"$f":"Main!E6","v":"日本ハム2"},null,20,{"$nulls":13},18,{"$f":"Main!C6","v":"埼玉西部1"}]
[]
[{"$f":"Main!E9","v":"横浜湊星3"},null,29,{"$nulls":13},31,{"$f":"Main!C9","v":0}]
[]
[{"$f":"Main!E10","v":0},null,36,{"$nulls":13},34,{"$f":"Main!C10","v":0}]
[]
[{"$f":"Main!E2","v":"読売巨人2"},null,4,{"$nulls":13},2,{"$f":"Main!C2","v":"東北楽天1"}]

{"sheet":"35","index":7,"n_rows":55,"n_cols":18,"rows_kept":55,"cut":false,"hidden":false,"merged":[[7,3,8,3],[8,0,9,0],[8,2,9,2],[8,15,9,15],[8,16,9,16],[8,17,9,17],[4,0,5,0],[4,2,5,2],[4,15,5,15],[4,16,5,16],[4,17,5,17],[6,0,7,0],[6,2,7,2],[6,15,7,15],[6,16,7,16],[6,17,7,17],[14,15,15,15],[14,16,15,16],[14,17,15,17],[15,0,16,0],[15,2,16,2],[16,15,17,15],[16,16,17,16],[10,0,11,0],[10,2,11,2],[10,15,11,15],[10,16,11,16],[10,17,11,17],[11,3,12,3],[12,0,13,0],[12,2,13,2],[12,15,13,15],[12,16,13,16],[18,0,19,0],[18,2,19,2],[18,15,19,15],[18,17,19,17],[20,0,21,0],[20,2,21,2],[20,15,21,15],[20,16,21,16],[21,3,22,3],[22,0,23,0],[22,2,23,2],[22,15,23,15],[22,16,23,16],[22,17,23,17],[24,0,25,0],[24,2,25,2],[24,15,25,15],[24,16,25,16],[24,17,25,17],[25,3,26,3],[28,17,29,17],[30,0,31,0],[30,2,31,2],[30,15,31,15],[30,16,31,16],[30,17,31,17],[26,0,27,0],[26,2,27,2],[26,15,27,15],[26,16,27,16],[28,0,29,0],[28,2,29,2],[28,15,29,15],[28,16,29,16],[34,17,35,17],[36,0,37,0],[36,2,37,2],[36,15,37,15],[36,16,37,16],[36,17,37,17],[32,15,33,15],[32,16,33,16],[33,0,34,0],[33,2,34,2],[34,15,35,15],[34,16,35,16],[40,17,41,17],[42,15,43,15],[42,16,43,16],[43,0,44,0],[43,2,44,2],[44,15,45,15],[44,16,45,16],[44,17,45,17],[38,0,39,0],[38,2,39,2],[38,15,39,15],[38,16,39,16],[40,0,41,0],[40,2,41,2],[40,15,41,15],[40,16,41,16],[46,0,47,0],[46,2,47,2],[46,15,47,15],[46,16,47,16],[47,3,48,3],[48,0,49,0],[48,2,49,2],[48,15,49,15],[48,16,49,16],[54,0,55,0],[54,2,55,2],[54,15,55,15],[54,16,55,16],[54,17,55,17],[51,2,52,2],[51,0,52,0],[48,17,49,17],[50,15,51,15],[50,16,51,16],[50,17,51,17],[52,15,53,15],[52,16,53,16],[52,17,53,17]]}
[]
["Patern 35"]
[]
[]
[{"$f":"Main!B2","v":"千葉海賊1"},null,1,{"$nulls":13},3,{"$f":"Main!D2","v":"読売巨人1"}]
[]
[{"$f":"Main!B10","v":0},null,33,{"$nulls":13},35,{"$f":"Main!D10","v":0}]
[null,null,null,1]
[{"$f":"Main!B9","v":0},null,32,{"$nulls":13},30,{"$f":"Main!D9","v":"千葉海賊4"}]
[]
[{"$f":"Main!B6","v":"阪神猛虎2"},null,17,{"$nulls":13},19,{"$f":"Main!D6","v":"日本ハム1"}]
[]
[]
[]
[{"$nulls":16},14,{"$f":"Main!D5","v":"東北楽天4"}]
[{"$f":"Main!B5","v":"横浜湊星1"},null,16]
[]
[]
[{"$f":"Main!B4","v":"東北楽天3"},null,9,{"$nulls":13},11,{"$f":"Main!D4","v":"中日昇竜1"}]
[]
[]
[]
[{"$f":"Main!B7","v":"中日昇竜4"},null,24,{"$nulls":13},22,{"$f":"Main!D7","v":"横浜湊星2"}]
[]
[{"$f":"Main!B8","v":"埼玉西部3"},null,25,{"$nulls":13},27,{"$f":"Main!D8","v":"阪神猛虎3"}]
[]
[]
[]
[{"$f":"Main!B3","v":"読売巨人3"},null,8,{"$nulls":13},6,{"$f":"Main!D3","v":"広島東洋1"}]
[]
[{"$f":"Main!E3","v":"東北楽天2"},null,5,{"$nulls":13},7,{"$f":"Main!C3","v":"千葉海賊2"}]
[]
[]
[{"$f":"Main!E8","v":"千葉海賊3"},null,28]
[{"$nulls":16},26,{"$f":"Main!C8","v":"広島東洋3"}]
[]
[{"$f":"Main!E7","v":"埼玉西部2"},null,21,{"$nulls":13},23,{"$f":"Main!C7","v":"読売巨人4"}]
[]
[]
[]
[{"$f":"Main!E4","v":"広島東洋2"},null,12,{"$nulls":13},10,{"$f":"Main!C4","v":"阪神猛虎1"}]
[]
[]
[{"$f":"Main!E5","v":"中日昇竜2"},null,13]
[{"$nulls":16},15,{"$f":"Main!C5","v":"中日昇竜3"}]
[]
[]
[]
[{"$f":"Main!E6","v":"日本ハム2"},null,20,{"$nulls":13},18,{"$f":"Main!C6","v":"埼玉西部1"}]
[]
[{"$nulls":16},31,{"$f":"Main!C9","v":0}]
[{"$f":"Main!E9","v":"横浜湊星3"},null,29]
[{"$nulls":16},34,{"$f":"Main!C10","v":0}]
[]
[{"$f":"Main!E2","v":"読売巨人2"},null,4,{"$nulls":13},2,{"$f":"Main!C2","v":"東北楽天1"}]

{"sheet":"34","index":8,"n_rows":55,"n_cols":18,"rows_kept":55,"cut":false,"hidden":false,"merged":[[4,15,5,15],[10,0,11,0],[10,2,11,2],[10,15,11,15],[10,16,11,16],[4,16,5,16],[4,17,5,17],[6,0,7,0],[6,2,7,2],[6,15,7,15],[7,3,8,3],[8,0,9,0],[8,2,9,2],[8,15,9,15],[4,0,5,0],[4,2,5,2],[14,15,15,15],[14,16,15,16],[14,17,15,17],[15,0,16,0],[15,2,16,2],[16,15,17,15],[16,16,17,16],[10,17,11,17],[11,3,12,3],[12,0,13,0],[12,2,13,2],[12,15,13,15],[12,16,13,16],[22,17,23,17],[24,0,25,0],[24,2,25,2],[24,15,25,15],[24,16,25,16],[24,17,25,17],[25,3,26,3],[18,0,19,0],[18,2,19,2],[18,15,19,15],[18,17,19,17],[20,0,21,0],[20,2,21,2],[20,15,21,15],[20,16,21,16],[21,3,22,3],[22,0,23,0],[26,0,27,0],[26,2,27,2],[26,15,27,15],[26,16,27,16],[38,0,39,0],[38,2,39,2],[38,15,39,15],[38,16,39,16],[28,0,29,0],[28,2,29,2],[28,15,29,15],[28,16,29,16],[22,2,23,2],[22,15,23,15],[22,16,23,16],[32,15,33,15],[32,16,33,16],[33,0,34,0],[33,2,34,2],[34,15,35,15],[34,16,35,16],[34,17,35,17],[36,0,37,0],[36,2,37,2],[36,15,37,15],[36,16,37,16],[36,17,37,17],[28,17,29,17],[30,0,31,0],[30,2,31,2],[30,15,31,15],[30,16,31,16],[30,17,31,17],[48,16,49,16],[40,17,41,17],[42,15,43,15],[42,16,43,16],[43,0,44,0],[43,2,44,2],[44,15,45,15],[44,16,45,16],[44,17,45,17],[40,0,41,0],[40,2,41,2],[40,15,41,15],[40,16,41,16],[54,0,55,0],[54,2,55,2],[54,15,55,15],[54,16,55,16],[54,17,55,17],[7,16,8,16],[7,17,8,17],[48,17,49,17],[50,15,51,15],[50,16,51,16],[50,17,51,17],[51,0,52,0],[51,2,52,2],[52,15,53,15],[52,16,53,16],[52,17,53,17],[46,0,47,0],[46,2,47,2],[46,15,47,15],[46,16,47,16],[47,3,48,3],[48,0,49,0],[48,2,49,2],[48,15,49,15]]}
[]
["Patern 34"]
[]
[]
[{"$f":"Main!B2","v":"千葉海賊1"},null,1,{"$nulls":13},3,{"$f":"Main!D2","v":"読売巨人1"}]
[]
[{"$f":"Main!B10","v":0},null,33]
[null,null,null,1,{"$nulls":12},30,{"$f":"Main!D9","v":"千葉海賊4"}]
[{"$f":"Main!B9","v":0},null,32]
[]
[{"$f":"Main!B6","v":"阪神猛虎2"},null,17,{"$nulls":13},19,{"$f":"Main!D6","v":"日本ハム1"}]
[]
[]
[]
[{"$nulls":16},14,{"$f":"Main!D5","v":"東北楽天4"}]
[{"$f":"Main!B5","v":"横浜湊星1"},null,16]
[]
[]
[{"$f":"Main!B4","v":"東北楽天3"},null,9,{"$nulls":13},11,{"$f":"Main!D4","v":"中日昇竜1"}]
[]
[]
[]
[{"$f":"Main!B7","v":"中日昇竜4"},null,24,{"$nulls":13},22,{"$f":"Main!D7","v":"横浜湊星2"}]
[]
[{"$f":"Main!B8","v":"埼玉西部3"},null,25,{"$nulls":13},27,{"$f":"Main!D8","v":"阪神猛虎3"}]
[]
[]
[]
[{"$f":"Main!B3","v":"読売巨人3"},null,8,{"$nulls":13},6,{"$f":"Main!D3","v":"広島東洋1"}]
[]
[{"$f":"Main!E3","v":"東北楽天2"},null,5,{"$nulls":13},7,{"$f":"Main!C3","v":"千葉海賊2"}]
[]
[]
[{"$f":"Main!E8","v":"千葉海賊3"},null,28]
[{"$nulls":16},26,{"$f":"Main!C8","v":"広島東洋3"}]
[]
[{"$f":"Main!E7","v":"埼玉西部2"},null,21,{"$nulls":13},23,{"$f":"Main!C7","v":"読売巨人4"}]
[]
[]
[]
[{"$f":"Main!E4","v":"広島東洋2"},null,12,{"$nulls":13},10,{"$f":"Main!C4","v":"阪神猛虎1"}]
[]
[]
[{"$f":"Main!E5","v":"中日昇竜2"},null,13]
[{"$nulls":16},15,{"$f":"Main!C5","v":"中日昇竜3"}]
[]
[]
[]
[{"$f":"Main!E6","v":"日本ハム2"},null,20,{"$nulls":13},18,{"$f":"Main!C6","v":"埼玉西部1"}]
[]
[{"$nulls":16},31,{"$f":"Main!C9","v":0}]
[{"$f":"Main!E9","v":"横浜湊星3"},null,29]
[{"$nulls":16},34,{"$f":"Main!C10","v":0}]
[]
[{"$f":"Main!E2","v":"読売巨人2"},null,4,{"$nulls":13},2,{"$f":"Main!C2","v":"東北楽天1"}]

{"sheet":"33","index":9,"n_rows":55,"n_cols":18,"rows_kept":55,"cut":false,"hidden":false,"merged":[[4,0,5,0],[4,2,5,2],[4,15,5,15],[4,16,5,16],[4,17,5,17],[6,0,7,0],[6,2,7,2],[6,15,7,15],[7,3,8,3],[7,16,8,16],[12,0,13,0],[12,2,13,2],[12,15,13,15],[12,16,13,16],[14,15,15,15],[14,16,15,16],[7,17,8,17],[8,0,9,0],[8,2,9,2],[8,15,9,15],[10,0,11,0],[10,2,11,2],[10,15,11,15],[10,16,11,16],[10,17,11,17],[11,3,12,3],[14,17,15,17],[15,0,16,0],[15,2,16,2],[16,15,17,15],[16,16,17,16],[18,0,19,0],[18,2,19,2],[18,15,19,15],[18,17,19,17],[20,0,21,0],[20,2,21,2],[20,15,21,15],[20,16,21,16],[21,3,22,3],[22,0,23,0],[22,2,23,2],[22,15,23,15],[22,16,23,16],[26,16,27,16],[28,0,29,0],[28,2,29,2],[28,15,29,15],[28,16,29,16],[28,17,29,17],[22,17,23,17],[24,0,25,0],[24,2,25,2],[24,15,25,15],[24,16,25,16],[24,17,25,17],[25,3,26,3],[26,0,27,0],[26,2,27,2],[26,15,27,15],[34,16,35,16],[34,17,35,17],[36,0,37,0],[36,2,37,2],[36,15,37,15],[36,16,37,16],[36,17,37,17],[30,0,31,0],[30,2,31,2],[30,15,31,15],[30,16,31,16],[30,17,31,17],[32,15,33,15],[32,16,33,16],[33,0,34,0],[33,2,34,2],[34,15,35,15],[40,17,41,17],[42,15,43,15],[42,16,43,16],[43,0,44,0],[43,2,44,2],[44,15,45,15],[44,16,45,16],[44,17,45,17],[38,0,39,0],[38,2,39,2],[38,15,39,15],[38,16,39,16],[40,0,41,0],[40,2,41,2],[40,15,41,15],[40,16,41,16],[46,0,47,0],[46,2,47,2],[46,15,47,15],[46,16,47,16],[47,3,48,3],[48,0,49,0],[48,2,49,2],[48,15,49,15],[48,16,49,16],[54,0,55,0],[54,2,55,2],[54,15,55,15],[54,16,55,16],[54,17,55,17],[51,16,52,16],[51,17,52,17],[48,17,49,17],[50,15,51,15],[51,0,52,0],[51,2,52,2],[52,15,53,15]]}
[]
["Patern 33"]
[]
[]
[{"$f":"Main!B2","v":"千葉海賊1"},null,1,{"$nulls":13},3,{"$f":"Main!D2","v":"読売巨人1"}]
[]
[{"$f":"Main!B10","v":0},null,33]
[null,null,null,1,{"$nulls":12},30,{"$f":"Main!D9","v":"千葉海賊4"}]
[{"$f":"Main!B9","v":0},null,32]
[]
[{"$f":"Main!B6","v":"阪神猛虎2"},null,17,{"$nulls":13},19,{"$f":"Main!D6","v":"日本ハム1"}]
[]
[]
[]
[{"$nulls":16},14,{"$f":"Main!D5","v":"東北楽天4"}]
[{"$f":"Main!B5","v":"横浜湊星1"},null,16]
[]
[]
[{"$f":"Main!B4","v":"東北楽天3"},null,9,{"$nulls":13},11,{"$f":"Main!D4","v":"中日昇竜1"}]
[]
[]
[]
[{"$f":"Main!B7","v":"中日昇竜4"},null,24,{"$nulls":13},22,{"$f":"Main!D7","v":"横浜湊星2"}]
[]
[{"$f":"Main!B8","v":"埼玉西部3"},null,25,{"$nulls":13},27,{"$f":"Main!D8","v":"阪神猛虎3"}]
[]
[]
[]
[{"$f":"Main!B3","v":"読売巨人3"},null,8,{"$nulls":13},6,{"$f":"Main!D3","v":"広島東洋1"}]
[]
[{"$f":"Main!E3","v":"東北楽天2"},null,5,{"$nulls":13},7,{"$f":"Main!C3","v":"千葉海賊2"}]
[]
[]
[{"$f":"Main!E8","v":"千葉海賊3"},null,28]
[{"$nulls":16},26,{"$f":"Main!C8","v":"広島東洋3"}]
[]
[{"$f":"Main!E7","v":"埼玉西部2"},null,21,{"$nulls":13},23,{"$f":"Main!C7","v":"読売巨人4"}]
[]
[]
[]
[{"$f":"Main!E4","v":"広島東洋2"},null,12,{"$nulls":13},10,{"$f":"Main!C4","v":"阪神猛虎1"}]
[]
[]
[{"$f":"Main!E5","v":"中日昇竜2"},null,13]
[{"$nulls":16},15,{"$f":"Main!C5","v":"中日昇竜3"}]
[]
[]
[]
[{"$f":"Main!E6","v":"日本ハム2"},null,20,{"$nulls":13},18,{"$f":"Main!C6","v":"埼玉西部1"}]
[]
[]
[{"$f":"Main!E9","v":"横浜湊星3"},null,29,{"$nulls":13},31,{"$f":"Main!C9","v":0}]
[]
[]
[{"$f":"Main!E2","v":"読売巨人2"},null,4,{"$nulls":13},2,{"$f":"Main!C2","v":"東北楽天1"}]

{"sheet":"32","index":10,"n_rows":49,"n_cols":18,"rows_kept":49,"cut":false,"hidden":false,"merged":[[1,16,2,16],[7,2,8,2],[7,15,8,15],[7,16,8,16],[1,0,2,0],[1,1,2,1],[4,1,5,1],[7,1,8,1],[44,1,45,1],[4,15,5,15],[10,15,11,15],[44,15,45,15],[19,1,20,1],[23,1,24,1],[25,1,26,1],[29,1,30,1],[31,1,32,1],[35,1,36,1],[10,2,11,2],[44,0,45,0],[44,2,45,2],[1,2,2,2],[1,15,2,15],[10,1,11,1],[13,1,14,1],[17,1,18,1],[13,2,14,2],[13,15,14,15],[15,0,16,0],[15,2,16,2],[15,15,16,15],[15,16,16,16],[16,3,17,3],[17,0,18,0],[17,2,18,2],[17,15,18,15],[17,16,18,16],[23,0,24,0],[23,2,24,2],[23,15,24,15],[23,16,24,16],[25,0,26,0],[25,2,26,2],[25,15,26,15],[25,16,26,16],[19,0,20,0],[19,2,20,2],[19,15,20,15],[19,16,20,16],[20,3,21,3],[21,0,22,0],[21,2,22,2],[21,15,22,15],[21,16,22,16],[31,0,32,0],[31,2,32,2],[31,15,32,15],[31,16,32,16],[33,0,34,0],[33,2,34,2],[33,15,34,15],[33,16,34,16],[27,0,28,0],[27,2,28,2],[27,15,28,15],[27,16,28,16],[29,0,30,0],[29,2,30,2],[29,15,30,15],[29,16,30,16],[42,1,43,1],[35,0,36,0],[35,2,36,2],[35,15,36,15],[35,16,36,16],[38,2,39,2],[38,15,39,15],[38,16,39,16],[38,0,39,0],[38,1,39,1],[1,17,2,17],[4,17,5,17],[7,17,8,17],[10,17,11,17],[13,17,14,17],[17,17,18,17],[48,0,49,0],[48,2,49,2],[48,15,49,15],[48,16,49,16],[4,2,5,2],[4,16,5,16],[4,0,5,0],[7,0,8,0],[13,0,14,0],[10,0,11,0],[40,0,41,0],[40,2,41,2],[40,15,41,15],[40,16,41,16],[41,3,42,3],[42,0,43,0],[42,2,43,2],[42,15,43,15],[38,17,39,17],[42,17,43,17],[44,17,45,17],[48,17,49,17],[10,16,11,16],[13,16,14,16],[44,16,45,16],[19,17,20,17],[23,17,24,17],[25,17,26,17],[29,17,30,17],[31,17,32,17],[35,17,36,17],[42,16,43,16]]}
[]
[{"$f":"Main!B2","v":"千葉海賊1"},null,1,{"$nulls":13},3,{"$f":"Main!D2","v":"読売巨人1"}]
[]
[]
[{"$f":"Main!B9","v":0},null,32,{"$nulls":13},30,{"$f":"Main!D9","v":"千葉海賊4"}]
[]
[]
[{"$f":"Main!B6","v":"阪神猛虎2"},null,17,{"$nulls":13},19,{"$f":"Main!D6","v":"日本ハム1"}]
[]
[]
[{"$f":"Main!B5","v":"横浜湊星1"},null,16,{"$nulls":13},14,{"$f":"Main!D5","v":"東北楽天4"}]
[]
[]
[{"$f":"Main!B4","v":"東北楽天3"},null,9,{"$nulls":13},11,{"$f":"Main!D4","v":"中日昇竜1"}]
[]
[]
[]
[{"$f":"Main!B7","v":"中日昇竜4"},null,24,{"$nulls":13},22,{"$f":"Main!D7","v":"横浜湊星2"}]
[]
[{"$f":"Main!B8","v":"埼玉西部3"},null,25,{"$nulls":13},27,{"$f":"Main!D8","v":"阪神猛虎3"}]
[]
[]
[]
[{"$f":"Main!B3","v":"読売巨人3"},null,8,{"$nulls":13},6,{"$f":"Main!D3","v":"広島東洋1"}]
[]
[{"$f":"Main!E3","v":"東北楽天2"},null,5,{"$nulls":13},7,{"$f":"Main!C3","v":"千葉海賊2"}]
[]
[]
[]
[{"$f":"Main!E8","v":"千葉海賊3"},null,28,{"$nulls":13},26,{"$f":"Main!C8","v":"広島東洋3"}]
[]
[{"$f":"Main!E7","v":"埼玉西部2"},null,21,{"$nulls":13},23,{"$f":"Main!C7","v":"読売巨人4"}]
[]
[]
[]
[{"$f":"Main!E4","v":"広島東洋2"},null,12,{"$nulls":13},10,{"$f":"Main!C4","v":"阪神猛虎1"}]
[]
[]
[{"$f":"Main!E5","v":"中日昇竜2"},null,13,{"$nulls":13},15,{"$f":"Main!C5","v":"中日昇竜3"}]
[]
[]
[]
[{"$f":"Main!E6","v":"日本ハム2"},null,20,{"$nulls":13},18,{"$f":"Main!C6","v":"埼玉西部1"}]
[]
[{"$f":"Main!E9","v":"横浜湊星3"},null,29,{"$nulls":13},31,{"$f":"Main!C9","v":0}]
[]
[]
[]
[{"$f":"Main!E2","v":"読売巨人2"},null,4,{"$nulls":13},2,{"$f":"Main!C2","v":"東北楽天1"}]

{"sheet":"31","index":11,"n_rows":46,"n_cols":18,"rows_kept":46,"cut":false,"hidden":false,"merged":[[42,1,43,1],[45,1,46,1],[37,1,38,1],[42,2,43,2],[42,16,43,16],[37,2,38,2],[37,15,38,15],[37,16,38,16],[2,17,3,17],[5,17,6,17],[7,17,8,17],[10,17,11,17],[12,17,13,17],[42,17,43,17],[45,17,46,17],[9,2,10,2],[12,16,13,16],[22,17,23,17],[18,17,19,17],[24,17,25,17],[28,17,29,17],[30,17,31,17],[45,2,46,2],[45,16,46,16],[40,2,41,2],[40,15,41,15],[40,16,41,16],[34,17,35,17],[37,17,38,17],[28,1,29,1],[30,1,31,1],[26,2,27,2],[16,17,17,17],[40,17,41,17],[40,1,41,1],[34,1,35,1],[34,2,35,2],[34,15,35,15],[34,16,35,16],[30,2,31,2],[30,15,31,15],[30,16,31,16],[32,2,33,2],[32,15,33,15],[32,16,33,16],[9,1,10,1],[12,1,13,1],[16,1,17,1],[22,1,23,1],[24,1,25,1],[18,1,19,1],[26,15,27,15],[26,16,27,16],[28,2,29,2],[28,15,29,15],[28,16,29,16],[24,16,25,16],[16,15,17,15],[16,16,17,16],[18,2,19,2],[18,15,19,15],[18,16,19,16],[19,3,20,3],[20,2,21,2],[20,15,21,15],[20,16,21,16],[22,2,23,2],[22,15,23,15],[22,16,23,16],[24,2,25,2],[24,15,25,15],[10,15,11,15],[10,16,11,16],[12,2,13,2],[12,15,13,15],[14,2,15,2],[14,15,15,15],[14,16,15,16],[15,3,16,3],[16,2,17,2],[1,1,1,2],[2,15,3,15],[2,16,3,16],[3,2,4,2],[5,15,6,15],[5,16,6,16],[6,2,7,2],[7,15,8,15],[7,16,8,16],[3,1,4,1],[6,1,7,1]]}
[]
[null,31]
[{"$nulls":16},3,{"$f":"Main!D2","v":"読売巨人1"}]
[null,{"$f":"Main!B2","v":"千葉海賊1"},1]
[]
[{"$nulls":16},30,{"$f":"Main!D9","v":"千葉海賊4"}]
[null,{"$f":"Main!B6","v":"阪神猛虎2"},17]
[{"$nulls":16},19,{"$f":"Main!D6","v":"日本ハム1"}]
[]
[null,{"$f":"Main!B5","v":"横浜湊星1"},16]
[{"$nulls":16},14,{"$f":"Main!D5","v":"東北楽天4"}]
[]
[null,{"$f":"Main!B4","v":"東北楽天3"},9,{"$nulls":13},11,{"$f":"Main!D4","v":"中日昇竜1"}]
[]
[]
[]
[null,{"$f":"Main!B7","v":"中日昇竜4"},24,{"$nulls":13},22,{"$f":"Main!D7","v":"横浜湊星2"}]
[]
[null,{"$f":"Main!B8","v":"埼玉西部3"},25,{"$nulls":13},27,{"$f":"Main!D8","v":"阪神猛虎3"}]
[]
[]
[]
[null,{"$f":"Main!B3","v":"読売巨人3"},8,{"$nulls":13},6,{"$f":"Main!D3","v":"広島東洋1"}]
[]
[null,{"$f":"Main!E3","v":"東北楽天2"},5,{"$nulls":13},7,{"$f":"Main!C3","v":"千葉海賊2"}]
[]
[]
[]
[null,{"$f":"Main!E8","v":"千葉海賊3"},28,{"$nulls":13},26,{"$f":"Main!C8","v":"広島東洋3"}]
[]
[null,{"$f":"Main!E7","v":"埼玉西部2"},21,{"$nulls":13},23,{"$f":"Main!C7","v":"読売巨人4"}]
[]
[]
[]
[null,{"$f":"Main!E4","v":"広島東洋2"},12,{"$nulls":13},10,{"$f":"Main!C4","v":"阪神猛虎1"}]
[]
[]
[null,{"$f":"Main!E5","v":"中日昇竜2"},13,{"$nulls":13},15,{"$f":"Main!C5","v":"中日昇竜3"}]
[]
[]
[null,{"$f":"Main!E6","v":"日本ハム2"},20,{"$nulls":13},18,{"$f":"Main!C6","v":"埼玉西部1"}]
[]
[null,{"$f":"Main!E9","v":"横浜湊星3"},29,{"$nulls":13},31,{"$f":"Main!C9","v":0}]
[]
[]
[null,{"$f":"Main!E2","v":"読売巨人2"},4,{"$nulls":13},2,{"$f":"Main!C2","v":"東北楽天1"}]

{"sheet":"30","index":12,"n_rows":46,"n_cols":18,"rows_kept":46,"cut":false,"hidden":false,"merged":[[45,1,46,1],[45,2,46,2],[45,16,46,16],[45,17,46,17],[40,1,41,1],[40,2,41,2],[40,15,41,15],[40,16,41,16],[40,17,41,17],[42,1,43,1],[42,2,43,2],[42,16,43,16],[42,17,43,17],[34,17,35,17],[37,1,38,1],[37,2,38,2],[37,15,38,15],[37,16,38,16],[37,17,38,17],[32,2,33,2],[32,15,33,15],[32,16,33,16],[34,1,35,1],[34,2,35,2],[34,15,35,15],[34,16,35,16],[28,17,29,17],[30,1,31,1],[30,2,31,2],[30,15,31,15],[30,16,31,16],[30,17,31,17],[26,2,27,2],[26,15,27,15],[26,16,27,16],[28,1,29,1],[28,2,29,2],[28,15,29,15],[28,16,29,16],[24,1,25,1],[24,2,25,2],[24,15,25,15],[24,16,25,16],[24,17,25,17],[22,1,23,1],[22,2,23,2],[22,15,23,15],[22,16,23,16],[22,17,23,17],[16,17,17,17],[18,1,19,1],[18,2,19,2],[18,15,19,15],[18,16,19,16],[18,17,19,17],[19,3,20,3],[20,2,21,2],[20,15,21,15],[20,16,21,16],[14,2,15,2],[14,15,15,15],[14,16,15,16],[15,3,16,3],[16,1,17,1],[16,2,17,2],[16,15,17,15],[16,16,17,16],[12,1,13,1],[12,2,13,2],[12,15,13,15],[12,16,13,16],[12,17,13,17],[9,1,10,1],[9,2,10,2],[10,15,11,15],[10,16,11,16],[10,17,11,17],[5,15,6,15],[5,16,6,16],[5,17,6,17],[6,1,7,1],[6,2,7,2],[7,15,8,15],[7,16,8,16],[7,17,8,17],[1,1,1,2],[2,15,3,15],[2,16,3,16],[2,17,3,17],[3,1,4,1],[3,2,4,2]]}
[]
[null,30]
[{"$nulls":16},3,{"$f":"Main!D2","v":"読売巨人1"}]
[null,{"$f":"Main!B2","v":"千葉海賊1"},1]
[]
[{"$nulls":16},30,{"$f":"Main!D9","v":"千葉海賊4"}]
[null,{"$f":"Main!B6","v":"阪神猛虎2"},17]
[{"$nulls":16},19,{"$f":"Main!D6","v":"日本ハム1"}]
[]
[null,{"$f":"Main!B5","v":"横浜湊星1"},16]
[{"$nulls":16},14,{"$f":"Main!D5","v":"東北楽天4"}]
[]
[null,{"$f":"Main!B4","v":"東北楽天3"},9,{"$nulls":13},11,{"$f":"Main!D4","v":"中日昇竜1"}]
[]
[]
[]
[null,{"$f":"Main!B7","v":"中日昇竜4"},24,{"$nulls":13},22,{"$f":"Main!D7","v":"横浜湊星2"}]
[]
[null,{"$f":"Main!B8","v":"埼玉西部3"},25,{"$nulls":13},27,{"$f":"Main!D8","v":"阪神猛虎3"}]
[]
[]
[]
[null,{"$f":"Main!B3","v":"読売巨人3"},8,{"$nulls":13},6,{"$f":"Main!D3","v":"広島東洋1"}]
[]
[null,{"$f":"Main!E3","v":"東北楽天2"},5,{"$nulls":13},7,{"$f":"Main!C3","v":"千葉海賊2"}]
[]
[]
[]
[null,{"$f":"Main!E8","v":"千葉海賊3"},28,{"$nulls":13},26,{"$f":"Main!C8","v":"広島東洋3"}]
[]
[null,{"$f":"Main!E7","v":"埼玉西部2"},21,{"$nulls":13},23,{"$f":"Main!C7","v":"読売巨人4"}]
[]
[]
[]
[null,{"$f":"Main!E4","v":"広島東洋2"},12,{"$nulls":13},10,{"$f":"Main!C4","v":"阪神猛虎1"}]
[]
[]
[null,{"$f":"Main!E5","v":"中日昇竜2"},13,{"$nulls":13},15,{"$f":"Main!C5","v":"中日昇竜3"}]
[]
[]
[null,{"$f":"Main!E6","v":"日本ハム2"},20,{"$nulls":13},18,{"$f":"Main!C6","v":"埼玉西部1"}]
[]
[null,{"$f":"Main!E9","v":"横浜湊星3"},29]
[]
[]
[null,{"$f":"Main!E2","v":"読売巨人2"},4,{"$nulls":13},2,{"$f":"Main!C2","v":"東北楽天1"}]

{"sheet":"29","index":13,"n_rows":46,"n_cols":18,"rows_kept":46,"cut":false,"hidden":false,"merged":[[45,1,46,1],[45,2,46,2],[45,16,46,16],[45,17,46,17],[40,1,41,1],[40,2,41,2],[40,15,41,15],[40,16,41,16],[40,17,41,17],[42,1,43,1],[42,2,43,2],[42,16,43,16],[42,17,43,17],[34,17,35,17],[37,1,38,1],[37,2,38,2],[37,15,38,15],[37,16,38,16],[37,17,38,17],[32,2,33,2],[32,15,33,15],[32,16,33,16],[34,1,35,1],[34,2,35,2],[34,15,35,15],[34,16,35,16],[28,17,29,17],[30,1,31,1],[30,2,31,2],[30,15,31,15],[30,16,31,16],[30,17,31,17],[26,2,27,2],[26,15,27,15],[26,16,27,16],[28,1,29,1],[28,2,29,2],[28,15,29,15],[28,16,29,16],[24,1,25,1],[24,2,25,2],[24,15,25,15],[24,16,25,16],[24,17,25,17],[22,1,23,1],[22,2,23,2],[22,15,23,15],[22,16,23,16],[22,17,23,17],[16,17,17,17],[18,1,19,1],[18,2,19,2],[18,15,19,15],[18,16,19,16],[18,17,19,17],[19,3,20,3],[20,2,21,2],[20,15,21,15],[20,16,21,16],[14,2,15,2],[14,15,15,15],[14,16,15,16],[15,3,16,3],[16,1,17,1],[16,2,17,2],[16,15,17,15],[16,16,17,16],[12,1,13,1],[12,2,13,2],[12,15,13,15],[12,16,13,16],[12,17,13,17],[9,1,10,1],[9,2,10,2],[10,15,11,15],[10,16,11,16],[10,17,11,17],[5,15,6,15],[5,16,6,16],[5,17,6,17],[6,1,7,1],[6,2,7,2],[7,15,8,15],[7,16,8,16],[7,17,8,17],[1,1,1,2],[2,15,3,15],[2,16,3,16],[2,17,3,17],[3,1,4,1],[3,2,4,2]]}
[]
[null,29]
[{"$nulls":16},3,{"$f":"Main!D2","v":"読売巨人1"}]
[null,{"$f":"Main!B2","v":"千葉海賊1"},1]
[]
[]
[null,{"$f":"Main!B6","v":"阪神猛虎2"},17]
[{"$nulls":16},19,{"$f":"Main!D6","v":"日本ハム1"}]
[]
[null,{"$f":"Main!B5","v":"横浜湊星1"},16]
[{"$nulls":16},14,{"$f":"Main!D5","v":"東北楽天4"}]
[]
[null,{"$f":"Main!B4","v":"東北楽天3"},9,{"$nulls":13},11,{"$f":"Main!D4","v":"中日昇竜1"}]
[]
[]
[]
[null,{"$f":"Main!B7","v":"中日昇竜4"},24,{"$nulls":13},22,{"$f":"Main!D7","v":"横浜湊星2"}]
[]
[null,{"$f":"Main!B8","v":"埼玉西部3"},25,{"$nulls":13},27,{"$f":"Main!D8","v":"阪神猛虎3"}]
[]
[]
[]
[null,{"$f":"Main!B3","v":"読売巨人3"},8,{"$nulls":13},6,{"$f":"Main!D3","v":"広島東洋1"}]
[]
[null,{"$f":"Main!E3","v":"東北楽天2"},5,{"$nulls":13},7,{"$f":"Main!C3","v":"千葉海賊2"}]
[]
[]
[]
[null,{"$f":"Main!E8","v":"千葉海賊3"},28,{"$nulls":13},26,{"$f":"Main!C8","v":"広島東洋3"}]
[]
[null,{"$f":"Main!E7","v":"埼玉西部2"},21,{"$nulls":13},23,{"$f":"Main!C7","v":"読売巨人4"}]
[]
[]
[]
[null,{"$f":"Main!E4","v":"広島東洋2"},12,{"$nulls":13},10,{"$f":"Main!C4","v":"阪神猛虎1"}]
[]
[]
[null,{"$f":"Main!E5","v":"中日昇竜2"},13,{"$nulls":13},15,{"$f":"Main!C5","v":"中日昇竜3"}]
[]
[]
[null,{"$f":"Main!E6","v":"日本ハム2"},20,{"$nulls":13},18,{"$f":"Main!C6","v":"埼玉西部1"}]
[]
[null,{"$f":"Main!E9","v":"横浜湊星3"},29]
[]
[]
[null,{"$f":"Main!E2","v":"読売巨人2"},4,{"$nulls":13},2,{"$f":"Main!C2","v":"東北楽天1"}]

{"sheet":"28","index":14,"n_rows":46,"n_cols":18,"rows_kept":46,"cut":false,"hidden":false,"merged":[[45,1,46,1],[45,2,46,2],[45,16,46,16],[45,17,46,17],[40,1,41,1],[40,2,41,2],[40,15,41,15],[40,16,41,16],[40,17,41,17],[42,1,43,1],[42,2,43,2],[42,16,43,16],[42,17,43,17],[34,17,35,17],[37,1,38,1],[37,2,38,2],[37,15,38,15],[37,16,38,16],[37,17,38,17],[32,2,33,2],[32,15,33,15],[32,16,33,16],[34,1,35,1],[34,2,35,2],[34,15,35,15],[34,16,35,16],[28,17,29,17],[30,1,31,1],[30,2,31,2],[30,15,31,15],[30,16,31,16],[30,17,31,17],[26,2,27,2],[26,15,27,15],[26,16,27,16],[28,1,29,1],[28,2,29,2],[28,15,29,15],[28,16,29,16],[24,1,25,1],[24,2,25,2],[24,15,25,15],[24,16,25,16],[24,17,25,17],[22,1,23,1],[22,2,23,2],[22,15,23,15],[22,16,23,16],[22,17,23,17],[16,17,17,17],[18,1,19,1],[18,2,19,2],[18,15,19,15],[18,16,19,16],[18,17,19,17],[19,3,20,3],[20,2,21,2],[20,15,21,15],[20,16,21,16],[14,2,15,2],[14,15,15,15],[14,16,15,16],[15,3,16,3],[16,1,17,1],[16,2,17,2],[16,15,17,15],[16,16,17,16],[12,1,13,1],[12,2,13,2],[12,15,13,15],[12,16,13,16],[12,17,13,17],[9,1,10,1],[9,2,10,2],[10,15,11,15],[10,16,11,16],[10,17,11,17],[5,15,6,15],[5,16,6,16],[5,17,6,17],[6,1,7,1],[6,2,7,2],[7,15,8,15],[7,16,8,16],[7,17,8,17],[1,1,1,2],[2,15,3,15],[2,16,3,16],[2,17,3,17],[3,1,4,1],[3,2,4,2]]}
[]
[null,28]
[{"$nulls":16},3,{"$f":"Main!D2","v":"読売巨人1"}]
[null,{"$f":"Main!B2","v":"千葉海賊1"},1]
[]
[]
[null,{"$f":"Main!B6","v":"阪神猛虎2"},17]
[{"$nulls":16},19,{"$f":"Main!D6","v":"日本ハム1"}]
[]
[null,{"$f":"Main!B5","v":"横浜湊星1"},16]
[{"$nulls":16},14,{"$f":"Main!D5","v":"東北楽天4"}]
[]
[null,{"$f":"Main!B4","v":"東北楽天3"},9,{"$nulls":13},11,{"$f":"Main!D4","v":"中日昇竜1"}]
[]
[]
[]
[null,{"$f":"Main!B7","v":"中日昇竜4"},24,{"$nulls":13},22,{"$f":"Main!D7","v":"横浜湊星2"}]
[]
[null,{"$f":"Main!B8","v":"埼玉西部3"},25,{"$nulls":13},27,{"$f":"Main!D8","v":"阪神猛虎3"}]
[]
[]
[]
[null,{"$f":"Main!B3","v":"読売巨人3"},8,{"$nulls":13},6,{"$f":"Main!D3","v":"広島東洋1"}]
[]
[null,{"$f":"Main!E3","v":"東北楽天2"},5,{"$nulls":13},7,{"$f":"Main!C3","v":"千葉海賊2"}]
[]
[]
[]
[null,{"$f":"Main!E8","v":"千葉海賊3"},28,{"$nulls":13},26,{"$f":"Main!C8","v":"広島東洋3"}]
[]
[null,{"$f":"Main!E7","v":"埼玉西部2"},21,{"$nulls":13},23,{"$f":"Main!C7","v":"読売巨人4"}]
[]
[]
[]
[null,{"$f":"Main!E4","v":"広島東洋2"},12,{"$nulls":13},10,{"$f":"Main!C4","v":"阪神猛虎1"}]
[]
[]
[null,{"$f":"Main!E5","v":"中日昇竜2"},13,{"$nulls":13},15,{"$f":"Main!C5","v":"中日昇竜3"}]
[]
[]
[null,{"$f":"Main!E6","v":"日本ハム2"},20,{"$nulls":13},18,{"$f":"Main!C6","v":"埼玉西部1"}]
[]
[]
[]
[]
[null,{"$f":"Main!E2","v":"読売巨人2"},4,{"$nulls":13},2,{"$f":"Main!C2","v":"東北楽天1"}]

{"sheet":"27","index":15,"n_rows":46,"n_cols":18,"rows_kept":46,"cut":false,"hidden":false,"merged":[[45,1,46,1],[45,2,46,2],[45,16,46,16],[45,17,46,17],[40,1,41,1],[40,2,41,2],[40,15,41,15],[40,16,41,16],[40,17,41,17],[42,1,43,1],[42,2,43,2],[42,16,43,16],[42,17,43,17],[34,17,35,17],[37,1,38,1],[37,2,38,2],[37,15,38,15],[37,16,38,16],[37,17,38,17],[32,2,33,2],[32,15,33,15],[32,16,33,16],[34,1,35,1],[34,2,35,2],[34,15,35,15],[34,16,35,16],[28,17,29,17],[30,1,31,1],[30,2,31,2],[30,15,31,15],[30,16,31,16],[30,17,31,17],[26,2,27,2],[26,15,27,15],[26,16,27,16],[28,1,29,1],[28,2,29,2],[28,15,29,15],[28,16,29,16],[24,1,25,1],[24,2,25,2],[24,15,25,15],[24,16,25,16],[24,17,25,17],[22,1,23,1],[22,2,23,2],[22,15,23,15],[22,16,23,16],[22,17,23,17],[16,17,17,17],[18,1,19,1],[18,2,19,2],[18,15,19,15],[18,16,19,16],[18,17,19,17],[19,3,20,3],[20,2,21,2],[20,15,21,15],[20,16,21,16],[14,2,15,2],[14,15,15,15],[14,16,15,16],[15,3,16,3],[16,1,17,1],[16,2,17,2],[16,15,17,15],[16,16,17,16],[12,1,13,1],[12,2,13,2],[12,15,13,15],[12,16,13,16],[12,17,13,17],[9,1,10,1],[9,2,10,2],[10,15,11,15],[10,16,11,16],[10,17,11,17],[5,15,6,15],[5,16,6,16],[5,17,6,17],[6,1,7,1],[6,2,7,2],[7,15,8,15],[7,16,8,16],[7,17,8,17],[1,1,1,2],[2,15,3,15],[2,16,3,16],[2,17,3,17],[3,1,4,1],[3,2,4,2]]}
[]
[null,27]
[{"$nulls":16},3,{"$f":"Main!D2","v":"読売巨人1"}]
[null,{"$f":"Main!B2","v":"千葉海賊1"},1]
[]
[]
[null,{"$f":"Main!B6","v":"阪神猛虎2"},17]
[{"$nulls":16},19,{"$f":"Main!D6","v":"日本ハム1"}]
[]
[null,{"$f":"Main!B5","v":"横浜湊星1"},16]
[{"$nulls":16},14,{"$f":"Main!D5","v":"東北楽天4"}]
[]
[null,{"$f":"Main!B4","v":"東北楽天3"},9,{"$nulls":13},11,{"$f":"Main!D4","v":"中日昇竜1"}]
[]
[]
[]
[null,{"$f":"Main!B7","v":"中日昇竜4"},24,{"$nulls":13},22,{"$f":"Main!D7","v":"横浜湊星2"}]
[]
[null,{"$f":"Main!B8","v":"埼玉西部3"},25,{"$nulls":13},27,{"$f":"Main!D8","v":"阪神猛虎3"}]
[]
[]
[]
[null,{"$f":"Main!B3","v":"読売巨人3"},8,{"$nulls":13},6,{"$f":"Main!D3","v":"広島東洋1"}]
[]
[null,{"$f":"Main!E3","v":"東北楽天2"},5,{"$nulls":13},7,{"$f":"Main!C3","v":"千葉海賊2"}]
[]
[]
[]
[{"$nulls":16},26,{"$f":"Main!C8","v":"広島東洋3"}]
[]
[null,{"$f":"Main!E7","v":"埼玉西部2"},21,{"$nulls":13},23,{"$f":"Main!C7","v":"読売巨人4"}]
[]
[]
[]
[null,{"$f":"Main!E4","v":"広島東洋2"},12,{"$nulls":13},10,{"$f":"Main!C4","v":"阪神猛虎1"}]
[]
[]
[null,{"$f":"Main!E5","v":"中日昇竜2"},13,{"$nulls":13},15,{"$f":"Main!C5","v":"中日昇竜3"}]
[]
[]
[null,{"$f":"Main!E6","v":"日本ハム2"},20,{"$nulls":13},18,{"$f":"Main!C6","v":"埼玉西部1"}]
[]
[]
[]
[]
[null,{"$f":"Main!E2","v":"読売巨人2"},4,{"$nulls":13},2,{"$f":"Main!C2","v":"東北楽天1"}]

{"sheet":"26","index":16,"n_rows":46,"n_cols":18,"rows_kept":46,"cut":false,"hidden":false,"merged":[[45,1,46,1],[45,2,46,2],[45,16,46,16],[45,17,46,17],[40,1,41,1],[40,2,41,2],[40,15,41,15],[40,16,41,16],[40,17,41,17],[42,1,43,1],[42,2,43,2],[42,16,43,16],[42,17,43,17],[34,17,35,17],[37,1,38,1],[37,2,38,2],[37,15,38,15],[37,16,38,16],[37,17,38,17],[32,2,33,2],[32,15,33,15],[32,16,33,16],[34,1,35,1],[34,2,35,2],[34,15,35,15],[34,16,35,16],[28,17,29,17],[30,1,31,1],[30,2,31,2],[30,15,31,15],[30,16,31,16],[30,17,31,17],[26,2,27,2],[26,15,27,15],[26,16,27,16],[28,1,29,1],[28,2,29,2],[28,15,29,15],[28,16,29,16],[24,1,25,1],[24,2,25,2],[24,15,25,15],[24,16,25,16],[24,17,25,17],[22,1,23,1],[22,2,23,2],[22,15,23,15],[22,16,23,16],[22,17,23,17],[16,17,17,17],[18,1,19,1],[18,2,19,2],[18,15,19,15],[18,16,19,16],[18,17,19,17],[19,3,20,3],[20,2,21,2],[20,15,21,15],[20,16,21,16],[14,2,15,2],[14,15,15,15],[14,16,15,16],[15,3,16,3],[16,1,17,1],[16,2,17,2],[16,15,17,15],[16,16,17,16],[12,1,13,1],[12,2,13,2],[12,15,13,15],[12,16,13,16],[12,17,13,17],[9,1,10,1],[9,2,10,2],[10,15,11,15],[10,16,11,16],[10,17,11,17],[5,15,6,15],[5,16,6,16],[5,17,6,17],[6,1,7,1],[6,2,7,2],[7,15,8,15],[7,16,8,16],[7,17,8,17],[1,1,1,2],[2,15,3,15],[2,16,3,16],[2,17,3,17],[3,1,4,1],[3,2,4,2]]}
[]
[null,26]
[{"$nulls":16},3,{"$f":"Main!D2","v":"読売巨人1"}]
[null,{"$f":"Main!B2","v":"千葉海賊1"},1]
[]
[]
[null,{"$f":"Main!B6","v":"阪神猛虎2"},17]
[{"$nulls":16},19,{"$f":"Main!D6","v":"日本ハム1"}]
[]
[null,{"$f":"Main!B5","v":"横浜湊星1"},16]
[{"$nulls":16},14,{"$f":"Main!D5","v":"東北楽天4"}]
[]
[null,{"$f":"Main!B4","v":"東北楽天3"},9,{"$nulls":13},11,{"$f":"Main!D4","v":"中日昇竜1"}]
[]
[]
[]
[null,{"$f":"Main!B7","v":"中日昇竜4"},24,{"$nulls":13},22,{"$f":"Main!D7","v":"横浜湊星2"}]
[]
[null,{"$f":"Main!B8","v":"埼玉西部3"},25]
[]
[]
[]
[null,{"$f":"Main!B3","v":"読売巨人3"},8,{"$nulls":13},6,{"$f":"Main!D3","v":"広島東洋1"}]
[]
[null,{"$f":"Main!E3","v":"東北楽天2"},5,{"$nulls":13},7,{"$f":"Main!C3","v":"千葉海賊2"}]
[]
[]
[]
[{"$nulls":16},26,{"$f":"Main!C8","v":"広島東洋3"}]
[]
[null,{"$f":"Main!E7","v":"埼玉西部2"},21,{"$nulls":13},23,{"$f":"Main!C7","v":"読売巨人4"}]
[]
[]
[]
[null,{"$f":"Main!E4","v":"広島東洋2"},12,{"$nulls":13},10,{"$f":"Main!C4","v":"阪神猛虎1"}]
[]
[]
[null,{"$f":"Main!E5","v":"中日昇竜2"},13,{"$nulls":13},15,{"$f":"Main!C5","v":"中日昇竜3"}]
[]
[]
[null,{"$f":"Main!E6","v":"日本ハム2"},20,{"$nulls":13},18,{"$f":"Main!C6","v":"埼玉西部1"}]
[]
[]
[]
[]
[null,{"$f":"Main!E2","v":"読売巨人2"},4,{"$nulls":13},2,{"$f":"Main!C2","v":"東北楽天1"}]

{"sheet":"25","index":17,"n_rows":46,"n_cols":18,"rows_kept":46,"cut":false,"hidden":false,"merged":[[45,1,46,1],[45,2,46,2],[45,16,46,16],[45,17,46,17],[40,1,41,1],[40,2,41,2],[40,15,41,15],[40,16,41,16],[40,17,41,17],[42,1,43,1],[42,2,43,2],[42,16,43,16],[42,17,43,17],[34,17,35,17],[37,1,38,1],[37,2,38,2],[37,15,38,15],[37,16,38,16],[37,17,38,17],[32,2,33,2],[32,15,33,15],[32,16,33,16],[34,1,35,1],[34,2,35,2],[34,15,35,15],[34,16,35,16],[28,17,29,17],[30,1,31,1],[30,2,31,2],[30,15,31,15],[30,16,31,16],[30,17,31,17],[26,2,27,2],[26,15,27,15],[26,16,27,16],[28,1,29,1],[28,2,29,2],[28,15,29,15],[28,16,29,16],[24,1,25,1],[24,2,25,2],[24,15,25,15],[24,16,25,16],[24,17,25,17],[22,1,23,1],[22,2,23,2],[22,15,23,15],[22,16,23,16],[22,17,23,17],[16,17,17,17],[18,1,19,1],[18,2,19,2],[18,15,19,15],[18,16,19,16],[18,17,19,17],[19,3,20,3],[20,2,21,2],[20,15,21,15],[20,16,21,16],[14,2,15,2],[14,15,15,15],[14,16,15,16],[15,3,16,3],[16,1,17,1],[16,2,17,2],[16,15,17,15],[16,16,17,16],[12,1,13,1],[12,2,13,2],[12,15,13,15],[12,16,13,16],[12,17,13,17],[9,1,10,1],[9,2,10,2],[10,15,11,15],[10,16,11,16],[10,17,11,17],[5,15,6,15],[5,16,6,16],[5,17,6,17],[6,1,7,1],[6,2,7,2],[7,15,8,15],[7,16,8,16],[7,17,8,17],[1,1,1,2],[2,15,3,15],[2,16,3,16],[2,17,3,17],[3,1,4,1],[3,2,4,2]]}
[]
[null,25]
[{"$nulls":16},3,{"$f":"Main!D2","v":"読売巨人1"}]
[null,{"$f":"Main!B2","v":"千葉海賊1"},1]
[]
[]
[null,{"$f":"Main!B6","v":"阪神猛虎2"},17]
[{"$nulls":16},19,{"$f":"Main!D6","v":"日本ハム1"}]
[]
[null,{"$f":"Main!B5","v":"横浜湊星1"},16]
[{"$nulls":16},14,{"$f":"Main!D5","v":"東北楽天4"}]
[]
[null,{"$f":"Main!B4","v":"東北楽天3"},9,{"$nulls":13},11,{"$f":"Main!D4","v":"中日昇竜1"}]
[]
[]
[]
[null,{"$f":"Main!B7","v":"中日昇竜4"},24,{"$nulls":13},22,{"$f":"Main!D7","v":"横浜湊星2"}]
[]
[null,{"$f":"Main!B8","v":"埼玉西部3"},25]
[]
[]
[]
[null,{"$f":"Main!B3","v":"読売巨人3"},8,{"$nulls":13},6,{"$f":"Main!D3","v":"広島東洋1"}]
[]
[null,{"$f":"Main!E3","v":"東北楽天2"},5,{"$nulls":13},7,{"$f":"Main!C3","v":"千葉海賊2"}]
[]
[]
[]
[]
[]
[null,{"$f":"Main!E7","v":"埼玉西部2"},21,{"$nulls":13},23,{"$f":"Main!C7","v":"読売巨人4"}]
[]
[]
[]
[null,{"$f":"Main!E4","v":"広島東洋2"},12,{"$nulls":13},10,{"$f":"Main!C4","v":"阪神猛虎1"}]
[]
[]
[null,{"$f":"Main!E5","v":"中日昇竜2"},13,{"$nulls":13},15,{"$f":"Main!C5","v":"中日昇竜3"}]
[]
[]
[null,{"$f":"Main!E6","v":"日本ハム2"},20,{"$nulls":13},18,{"$f":"Main!C6","v":"埼玉西部1"}]
[]
[]
[]
[]
[null,{"$f":"Main!E2","v":"読売巨人2"},4,{"$nulls":13},2,{"$f":"Main!C2","v":"東北楽天1"}]

{"sheet":"24","index":18,"n_rows":46,"n_cols":18,"rows_kept":46,"cut":false,"hidden":false,"merged":[[45,1,46,1],[45,2,46,2],[45,16,46,16],[45,17,46,17],[40,1,41,1],[40,2,41,2],[40,15,41,15],[40,16,41,16],[40,17,41,17],[42,1,43,1],[42,2,43,2],[42,16,43,16],[42,17,43,17],[34,17,35,17],[37,1,38,1],[37,2,38,2],[37,15,38,15],[37,16,38,16],[37,17,38,17],[32,2,33,2],[32,15,33,15],[32,16,33,16],[34,1,35,1],[34,2,35,2],[34,15,35,15],[34,16,35,16],[28,17,29,17],[30,1,31,1],[30,2,31,2],[30,15,31,15],[30,16,31,16],[30,17,31,17],[26,2,27,2],[26,15,27,15],[26,16,27,16],[28,1,29,1],[28,2,29,2],[28,15,29,15],[28,16,29,16],[24,1,25,1],[24,2,25,2],[24,15,25,15],[24,16,25,16],[24,17,25,17],[22,1,23,1],[22,2,23,2],[22,15,23,15],[22,16,23,16],[22,17,23,17],[16,17,17,17],[18,1,19,1],[18,2,19,2],[18,15,19,15],[18,16,19,16],[18,17,19,17],[16,1,17,1],[20,2,21,2],[20,15,21,15],[20,16,21,16],[14,2,15,2],[14,15,15,15],[14,16,15,16],[16,2,17,2],[16,15,17,15],[16,16,17,16],[12,1,13,1],[12,2,13,2],[12,15,13,15],[12,16,13,16],[12,17,13,17],[9,1,10,1],[9,2,10,2],[10,15,11,15],[10,16,11,16],[10,17,11,17],[5,15,6,15],[5,16,6,16],[5,17,6,17],[6,1,7,1],[6,2,7,2],[7,15,8,15],[7,16,8,16],[7,17,8,17],[1,1,1,2],[2,15,3,15],[2,16,3,16],[2,17,3,17],[3,1,4,1],[3,2,4,2]]}
[]
[null,24]
[{"$nulls":16},3,{"$f":"Main!D2","v":"読売巨人1"}]
[null,{"$f":"Main!B2","v":"千葉海賊1"},1]
[]
[]
[null,{"$f":"Main!B6","v":"阪神猛虎2"},17]
[{"$nulls":16},19,{"$f":"Main!D6","v":"日本ハム1"}]
[]
[null,{"$f":"Main!B5","v":"横浜湊星1"},16]
[{"$nulls":16},14,{"$f":"Main!D5","v":"東北楽天4"}]
[]
[null,{"$f":"Main!B4","v":"東北楽天3"},9,{"$nulls":13},11,{"$f":"Main!D4","v":"中日昇竜1"}]
[]
[]
[]
[null,{"$f":"Main!B7","v":"中日昇竜4"},24,{"$nulls":13},22,{"$f":"Main!D7","v":"横浜湊星2"}]
[]
[]
[]
[]
[]
[null,{"$f":"Main!B3","v":"読売巨人3"},8,{"$nulls":13},6,{"$f":"Main!D3","v":"広島東洋1"}]
[]
[null,{"$f":"Main!E3","v":"東北楽天2"},5,{"$nulls":13},7,{"$f":"Main!C3","v":"千葉海賊2"}]
[]
[]
[]
[]
[]
[null,{"$f":"Main!E7","v":"埼玉西部2"},21,{"$nulls":13},23,{"$f":"Main!C7","v":"読売巨人4"}]
[]
[]
[]
[null,{"$f":"Main!E4","v":"広島東洋2"},12,{"$nulls":13},10,{"$f":"Main!C4","v":"阪神猛虎1"}]
[]
[]
[null,{"$f":"Main!E5","v":"中日昇竜2"},13,{"$nulls":13},15,{"$f":"Main!C5","v":"中日昇竜3"}]
[]
[]
[null,{"$f":"Main!E6","v":"日本ハム2"},20,{"$nulls":13},18,{"$f":"Main!C6","v":"埼玉西部1"}]
[]
[]
[]
[]
[null,{"$f":"Main!E2","v":"読売巨人2"},4,{"$nulls":13},2,{"$f":"Main!C2","v":"東北楽天1"}]